BEGIN:VCALENDAR
VERSION:2.0
PRODID:-//Battery-Tech Network - ECPv6.14.2//NONSGML v1.0//EN
CALSCALE:GREGORIAN
METHOD:PUBLISH
X-WR-CALNAME:Battery-Tech Network
X-ORIGINAL-URL:https://battery-tech.net
X-WR-CALDESC:Events for Battery-Tech Network
REFRESH-INTERVAL;VALUE=DURATION:PT1H
X-Robots-Tag:noindex
X-PUBLISHED-TTL:PT1H
BEGIN:VTIMEZONE
TZID:America/Guatemala
BEGIN:STANDARD
TZOFFSETFROM:-0600
TZOFFSETTO:-0600
TZNAME:CST
DTSTART:20260101T000000
END:STANDARD
END:VTIMEZONE
BEGIN:VEVENT
DTSTART;VALUE=DATE:20260518
DTEND;VALUE=DATE:20260522
DTSTAMP:20260421T145645
CREATED:20260112T143914Z
LAST-MODIFIED:20260112T143914Z
UID:31453-1779062400-1779407999@battery-tech.net
SUMMARY:Advanced Automotive Battery Conference (AABC) - Europe 2026
DESCRIPTION:AABC Europe 2026 convenes battery researchers\, automotive original equipment manufacturers (OEMs)\, suppliers\, engineers and program managers for a four-day technical program in Mainz\, Germany (18–21 May 2026). The event includes pre-conference tutorials and a large-scale symposium\, followed by multi-track sessions on cell chemistry\, pack engineering\, thermal management\, manufacturing and recycling. Additional sessions address heavy-duty electric vehicle technology\, battery applications\, raw materials and data-driven battery intelligence. The program is intended for professionals involved in battery development\, production and integration who seek detailed technical presentations\, data-driven performance studies and practical discussions about implementation and scale-up. Registration options include individual and group rates\, with group discounts and early booking savings available. \nLocation: Mainz\, Germany\nVenue: Mainz Congress\, Rheingold Hall
URL:https://battery-tech.net/battery-event/advanced-automotive-battery-conference-aabc-europe-2026/
CATEGORIES:Battery Event
ATTACH;FMTTYPE=image/webp:https://battery-tech.net/wp-content/uploads/2025/03/AABC-Europe.webp
END:VEVENT
END:VCALENDAR