BEGIN:VCALENDAR
VERSION:2.0
PRODID:-//Battery-Tech Network - ECPv6.14.2//NONSGML v1.0//EN
CALSCALE:GREGORIAN
METHOD:PUBLISH
X-WR-CALNAME:Battery-Tech Network
X-ORIGINAL-URL:https://battery-tech.net
X-WR-CALDESC:Events for Battery-Tech Network
REFRESH-INTERVAL;VALUE=DURATION:PT1H
X-Robots-Tag:noindex
X-PUBLISHED-TTL:PT1H
BEGIN:VTIMEZONE
TZID:America/Guatemala
BEGIN:STANDARD
TZOFFSETFROM:-0600
TZOFFSETTO:-0600
TZNAME:CST
DTSTART:20250101T000000
END:STANDARD
END:VTIMEZONE
BEGIN:VEVENT
DTSTART;VALUE=DATE:20250709
DTEND;VALUE=DATE:20250711
DTSTAMP:20260419T170444
CREATED:20241019T114222Z
LAST-MODIFIED:20250307T114007Z
UID:8376-1752019200-1752191999@battery-tech.net
SUMMARY:Battery Cells & Systems Expo 2025
DESCRIPTION:The Battery Cells & Systems Expo will bring together automotive manufacturers\, electric utilities\, battery system integrators\, cell manufacturers\, and the entire manufacturing supply chain. The event features over 300 exhibitors and is expected to attract more than 5\,000 visitors\, including key industry players like automotive OEMs and battery manufacturers. Co-located with the Vehicle Electrification Expo\, The Advanced Materials Show\, and The Advanced Ceramics Show\, it offers extensive networking\, lead generation\, and educational opportunities through a four-track conference featuring global experts. \nLocation: Birmingham\, UK\nVenue: NEC Birmingham
URL:https://battery-tech.net/battery-event/battery-cells-systems-expo-2025/
CATEGORIES:Battery Event,Battery Industry
ATTACH;FMTTYPE=image/jpeg:https://battery-tech.net/wp-content/uploads/2025/03/Battery-Cells-Systems-Expo.jpg
END:VEVENT
END:VCALENDAR