BEGIN:VCALENDAR
VERSION:2.0
PRODID:-//Battery-Tech Network - ECPv6.14.2//NONSGML v1.0//EN
CALSCALE:GREGORIAN
METHOD:PUBLISH
X-WR-CALNAME:Battery-Tech Network
X-ORIGINAL-URL:https://battery-tech.net
X-WR-CALDESC:Events for Battery-Tech Network
REFRESH-INTERVAL;VALUE=DURATION:PT1H
X-Robots-Tag:noindex
X-PUBLISHED-TTL:PT1H
BEGIN:VTIMEZONE
TZID:America/Guatemala
BEGIN:STANDARD
TZOFFSETFROM:-0600
TZOFFSETTO:-0600
TZNAME:CST
DTSTART:20240101T000000
END:STANDARD
END:VTIMEZONE
BEGIN:VEVENT
DTSTART;TZID=America/Guatemala:20240228T000000
DTEND;TZID=America/Guatemala:20240301T235959
DTSTAMP:20260425T155421
CREATED:20240727T181945Z
LAST-MODIFIED:20240727T181945Z
UID:6461-1709078400-1709337599@battery-tech.net
SUMMARY:Battery Japan
DESCRIPTION:Description: World Smart Energy Week (WSEW) is a leading event for smart energy solutions\, covering various sectors like renewable energy\, battery technologies\, and smart grids. It provides a platform for industry professionals to showcase innovations\, discuss policies\, and explore market trends. The event features over 1\,500 exhibitors\, multiple conferences\, and networking sessions to foster collaboration and business opportunities. Key topics include energy efficiency\, sustainability\, and advancements in battery storage solutions. Participants will have the opportunity to engage with experts and explore cutting-edge technologies and products.\nLocation: Tokyo\, Japan \nVenue: Tokyo Big Sight
URL:https://battery-tech.net/battery-event/battery-japan/
CATEGORIES:Battery Event
END:VEVENT
END:VCALENDAR