BEGIN:VCALENDAR
VERSION:2.0
PRODID:-//Battery-Tech Network - ECPv6.14.2//NONSGML v1.0//EN
CALSCALE:GREGORIAN
METHOD:PUBLISH
X-WR-CALNAME:Battery-Tech Network
X-ORIGINAL-URL:https://battery-tech.net
X-WR-CALDESC:Events for Battery-Tech Network
REFRESH-INTERVAL;VALUE=DURATION:PT1H
X-Robots-Tag:noindex
X-PUBLISHED-TTL:PT1H
BEGIN:VTIMEZONE
TZID:America/Guatemala
BEGIN:STANDARD
TZOFFSETFROM:-0600
TZOFFSETTO:-0600
TZNAME:CST
DTSTART:20250101T000000
END:STANDARD
END:VTIMEZONE
BEGIN:VEVENT
DTSTART;VALUE=DATE:20251105
DTEND;VALUE=DATE:20251107
DTSTAMP:20260421T080601
CREATED:20250922T071227Z
LAST-MODIFIED:20250922T072820Z
UID:28031-1762300800-1762473599@battery-tech.net
SUMMARY:LITHIUMSAFE: BATTERY SAFETY WORKSHOP
DESCRIPTION:LITHIUMSAFE: BATTERY SAFETY WORKSHOP 2025 is an industry event designed to bring together professionals working with lithium‐ion battery technologies. Scheduled for November 5–6\, 2025 in Greenville\, South Carolina\, the workshop offers live battery fire demonstrations\, expert panels\, and interactive sessions that address safety challenges in manufacturing\, storage\, and transportation of batteries. Participants will explore regulatory updates\, risk mitigation strategies\, and practical methods for improving safety protocols. Intended for battery manufacturers\, testing specialists\, emergency response teams\, regulators\, researchers\, and technical developers\, the event provides both in‐person and virtual attendance options to facilitate accessible knowledge sharing and dialogue on current safety practices and improvements. \nLocation: Greenville\, USA\nVenue: Huguenot Mill and Loft
URL:https://battery-tech.net/battery-event/lithiumsafe-battery-safety-workshop/
CATEGORIES:Battery Event,Battery Industry
ATTACH;FMTTYPE=image/png:https://battery-tech.net/wp-content/uploads/2025/09/LITHIUMSAFE-BATTERY-SAFETY-WORKSHOP.png
END:VEVENT
END:VCALENDAR