BEGIN:VCALENDAR
VERSION:2.0
PRODID:-//Battery-Tech Network - ECPv6.14.2//NONSGML v1.0//EN
CALSCALE:GREGORIAN
METHOD:PUBLISH
X-WR-CALNAME:Battery-Tech Network
X-ORIGINAL-URL:https://battery-tech.net
X-WR-CALDESC:Events for Battery-Tech Network
REFRESH-INTERVAL;VALUE=DURATION:PT1H
X-Robots-Tag:noindex
X-PUBLISHED-TTL:PT1H
BEGIN:VTIMEZONE
TZID:America/Guatemala
BEGIN:STANDARD
TZOFFSETFROM:-0600
TZOFFSETTO:-0600
TZNAME:CST
DTSTART:20260101T000000
END:STANDARD
END:VTIMEZONE
BEGIN:VEVENT
DTSTART;VALUE=DATE:20260916
DTEND;VALUE=DATE:20260919
DTSTAMP:20260425T124600
CREATED:20260112T143256Z
LAST-MODIFIED:20260112T143256Z
UID:31451-1789516800-1789775999@battery-tech.net
SUMMARY:The 11th World Battery & Energy Storage Industry Expo (WBE 2026)
DESCRIPTION:The 11th World Battery & Energy Storage Industry Expo (WBE 2026) is a trade exhibition and technical forum scheduled for 16–18 September 2026 in Guangzhou\, China. The event connects manufacturers\, component suppliers\, system integrators\, testing and inspection bodies\, materials producers\, recyclers\, and procurement professionals across the battery and energy storage supply chain. Exhibition topics cover cell and pack products\, energy storage systems\, battery management systems\, materials and components\, assembly and testing equipment\, recycling\, supercapacitors\, charging and swapping solutions\, and hydrogen energy applications. The program includes trade exhibition space\, industry forums\, buyer matchmaking\, and factory tours to facilitate commercial contacts and information exchange between domestic and international participants. \nLocation: Guangzhou\, China\nVenue: China Import and Export Fair Complex (Area A)
URL:https://battery-tech.net/battery-event/the-11th-world-battery-energy-storage-industry-expo-wbe-2026/
CATEGORIES:Battery Event,Battery Industry
ATTACH;FMTTYPE=image/png:https://battery-tech.net/wp-content/uploads/2025/03/World-Battery-Energy-Storage-Industry-Expo.png
END:VEVENT
END:VCALENDAR