BEGIN:VCALENDAR
VERSION:2.0
PRODID:-//Battery-Tech Network - ECPv6.14.2//NONSGML v1.0//EN
CALSCALE:GREGORIAN
METHOD:PUBLISH
X-WR-CALNAME:Battery-Tech Network
X-ORIGINAL-URL:https://battery-tech.net
X-WR-CALDESC:Events for Battery-Tech Network
REFRESH-INTERVAL;VALUE=DURATION:PT1H
X-Robots-Tag:noindex
X-PUBLISHED-TTL:PT1H
BEGIN:VTIMEZONE
TZID:America/Guatemala
BEGIN:STANDARD
TZOFFSETFROM:-0600
TZOFFSETTO:-0600
TZNAME:CST
DTSTART:20260101T000000
END:STANDARD
END:VTIMEZONE
BEGIN:VEVENT
DTSTART;VALUE=DATE:20260423
DTEND;VALUE=DATE:20260425
DTSTAMP:20260424T125319
CREATED:20250630T102031Z
LAST-MODIFIED:20250731T082804Z
UID:21911-1776902400-1777075199@battery-tech.net
SUMMARY:Battery Tech Expo UK 2026
DESCRIPTION:Battery Tech Expo UK 2026 is a one-day industry event held on 23 April 2026 at The Wing\, Silverstone Circuit in Towcester\, United Kingdom. Designed for professionals involved in battery technology and energy storage\, the event brings together manufacturers\, researchers\, engineers\, buyers and technical directors. Attendees can expect to learn about recent advances in battery management systems\, electric vehicle batteries\, storage solutions and recycling processes. The program features over 60 expert presentations and provides an open exhibition floor where more than 100 suppliers display their products and services. In addition to informative sessions\, the event offers scheduled networking opportunities for participants to engage in technical discussions and exchange practical ideas. Registration is free\, making it accessible for a broad spectrum of industry professionals seeking practical insights and collaborative discussion. \nLocation: Towcester\, United Kingdom\nVenue: The Wing\, Silverstone Circuit \n 
URL:https://battery-tech.net/battery-event/battery-tech-expo-uk-2026/
CATEGORIES:Battery Event,Battery Industry
ATTACH;FMTTYPE=image/jpeg:https://battery-tech.net/wp-content/uploads/2024/10/Battery-Tech-Expo.jpg
END:VEVENT
END:VCALENDAR