BEGIN:VCALENDAR
VERSION:2.0
PRODID:-//Battery-Tech Network - ECPv6.14.2//NONSGML v1.0//EN
CALSCALE:GREGORIAN
METHOD:PUBLISH
X-ORIGINAL-URL:https://battery-tech.net
X-WR-CALDESC:Events for Battery-Tech Network
REFRESH-INTERVAL;VALUE=DURATION:PT1H
X-Robots-Tag:noindex
X-PUBLISHED-TTL:PT1H
BEGIN:VTIMEZONE
TZID:America/Guatemala
BEGIN:STANDARD
TZOFFSETFROM:-0600
TZOFFSETTO:-0600
TZNAME:CST
DTSTART:20240101T000000
END:STANDARD
END:VTIMEZONE
BEGIN:VEVENT
DTSTART;VALUE=DATE:20240826
DTEND;VALUE=DATE:20240829
DTSTAMP:20260419T194529
CREATED:20240727T182119Z
LAST-MODIFIED:20250110T110914Z
UID:6493-1724630400-1724889599@battery-tech.net
SUMMARY:Swiss Battery Days 2024
DESCRIPTION:Description: The Swiss Battery Days 2024 is a prestigious event for young researchers and professionals in battery materials research and cell manufacturing. It will feature presentations on synthesis\, characterization\, integration of battery materials\, and industrial aspects of sodium-ion and redox flow battery manufacturing. The event aims to connect young researchers with renowned experts\, fostering collaboration and innovation in the battery industry. \nLocation: Zurich\, Switzerland \nVenue: ETH Zurich\, Scherrer Auditorium
URL:https://battery-tech.net/battery-event/swiss-battery-days-2024/
CATEGORIES:Battery Event,Battery Research
END:VEVENT
END:VCALENDAR