BEGIN:VCALENDAR
VERSION:2.0
PRODID:-//Battery-Tech Network - ECPv6.14.2//NONSGML v1.0//EN
CALSCALE:GREGORIAN
METHOD:PUBLISH
X-WR-CALNAME:Battery-Tech Network
X-ORIGINAL-URL:https://battery-tech.net
X-WR-CALDESC:Events for Battery-Tech Network
REFRESH-INTERVAL;VALUE=DURATION:PT1H
X-Robots-Tag:noindex
X-PUBLISHED-TTL:PT1H
BEGIN:VTIMEZONE
TZID:America/Guatemala
BEGIN:STANDARD
TZOFFSETFROM:-0600
TZOFFSETTO:-0600
TZNAME:CST
DTSTART:20240101T000000
END:STANDARD
END:VTIMEZONE
BEGIN:VEVENT
DTSTART;VALUE=DATE:20240910
DTEND;VALUE=DATE:20240911
DTSTAMP:20260419T180053
CREATED:20240727T182119Z
LAST-MODIFIED:20250110T105203Z
UID:6495-1725926400-1726012799@battery-tech.net
SUMMARY:Faraday Institution Conference 2024
DESCRIPTION:Description: The Faraday Institution Conference 2024 is a key event for the UK’s battery research and innovation community. It will feature presentations from leading experts\, panel discussions on sustainable battery manufacturing\, next-generation materials\, and recycling\, as well as networking opportunities. The conference aims to drive collaboration between academia\, industry\, and policy makers\, addressing critical challenges in battery technology and promoting sustainable electrification. \nLocation: Newcastle\, UK \nVenue: University of Birmingham
URL:https://battery-tech.net/battery-event/faraday-institution-conference-2024/
CATEGORIES:Battery Event,Battery Research
END:VEVENT
END:VCALENDAR