BEGIN:VCALENDAR
VERSION:2.0
PRODID:-//Battery-Tech Network - ECPv6.14.2//NONSGML v1.0//EN
CALSCALE:GREGORIAN
METHOD:PUBLISH
X-WR-CALNAME:Battery-Tech Network
X-ORIGINAL-URL:https://battery-tech.net
X-WR-CALDESC:Events for Battery-Tech Network
REFRESH-INTERVAL;VALUE=DURATION:PT1H
X-Robots-Tag:noindex
X-PUBLISHED-TTL:PT1H
BEGIN:VTIMEZONE
TZID:America/Guatemala
BEGIN:STANDARD
TZOFFSETFROM:-0600
TZOFFSETTO:-0600
TZNAME:CST
DTSTART:20240101T000000
END:STANDARD
END:VTIMEZONE
BEGIN:VEVENT
DTSTART;TZID=America/Guatemala:20240312T000000
DTEND;TZID=America/Guatemala:20240313T235959
DTSTAMP:20260424T001144
CREATED:20240727T181948Z
LAST-MODIFIED:20240727T181948Z
UID:6465-1710201600-1710374399@battery-tech.net
SUMMARY:Benchmark Giga Europe
DESCRIPTION:Description: Giga Europe by Benchmark focuses on the battery gigafactory ecosystem\, covering topics such as supply chain management\, manufacturing innovations\, and sustainability practices. The event features industry insights\, panel discussions\, and networking opportunities aimed at driving the growth of the gigafactory sector in Europe. Participants will explore the latest advancements in battery production\, recycling\, and circular economy initiatives. The event aims to address challenges and opportunities in the gigafactory industry\, promoting collaboration and innovation to support the transition to a sustainable energy future.\nLocation: Stockholm\, Sweden \nVenue: Grand Hotel Stockholm
URL:https://battery-tech.net/battery-event/benchmark-giga-europe/
CATEGORIES:Battery Event
END:VEVENT
BEGIN:VEVENT
DTSTART;TZID=America/Guatemala:20240312T000000
DTEND;TZID=America/Guatemala:20240313T235959
DTSTAMP:20260424T001144
CREATED:20240727T181947Z
LAST-MODIFIED:20240727T181947Z
UID:6463-1710201600-1710374399@battery-tech.net
SUMMARY:Renmad Almacenamiento 2024
DESCRIPTION:Description: RENMAD Almacenamiento focuses on energy storage solutions in Spain\, discussing regulatory frameworks\, market dynamics\, and technological advancements. The event features expert panels\, case studies\, and networking opportunities to promote the adoption and integration of energy storage systems in the energy market. Participants will learn about the latest developments in battery technologies\, grid integration\, and storage project financing. The event aims to foster collaboration between industry stakeholders\, policy-makers\, and researchers to drive innovation and investment in energy storage.\nLocation: Madrid\, Spain \nVenue: NH Collection Madrid Eurobuilding
URL:https://battery-tech.net/battery-event/renmad-almacenamiento-2024/
CATEGORIES:Battery Event
END:VEVENT
BEGIN:VEVENT
DTSTART;TZID=America/Guatemala:20240306T000000
DTEND;TZID=America/Guatemala:20240308T235959
DTSTAMP:20260424T001144
CREATED:20240727T181945Z
LAST-MODIFIED:20240727T181945Z
UID:6462-1709683200-1709942399@battery-tech.net
SUMMARY:Interbattery
DESCRIPTION:Description: InterBattery is Korea’s leading battery exhibition\, showcasing advancements in battery technologies\, energy storage systems\, and electric vehicles. The event includes product demonstrations\, technical seminars\, and business matching programs\, facilitating interactions between manufacturers\, suppliers\, and end-users. Attendees will explore innovations in lithium-ion batteries\, solid-state batteries\, and battery management systems. The exhibition aims to drive collaboration across the battery industry\, offering insights into future trends and opportunities in the global battery market.\nLocation: Seoul\, South Korea \nVenue: COEX Convention Center
URL:https://battery-tech.net/battery-event/interbattery/
CATEGORIES:Battery Event
END:VEVENT
BEGIN:VEVENT
DTSTART;TZID=America/Guatemala:20240228T000000
DTEND;TZID=America/Guatemala:20240301T235959
DTSTAMP:20260424T001144
CREATED:20240727T181945Z
LAST-MODIFIED:20240727T181945Z
UID:6461-1709078400-1709337599@battery-tech.net
SUMMARY:Battery Japan
DESCRIPTION:Description: World Smart Energy Week (WSEW) is a leading event for smart energy solutions\, covering various sectors like renewable energy\, battery technologies\, and smart grids. It provides a platform for industry professionals to showcase innovations\, discuss policies\, and explore market trends. The event features over 1\,500 exhibitors\, multiple conferences\, and networking sessions to foster collaboration and business opportunities. Key topics include energy efficiency\, sustainability\, and advancements in battery storage solutions. Participants will have the opportunity to engage with experts and explore cutting-edge technologies and products.\nLocation: Tokyo\, Japan \nVenue: Tokyo Big Sight
URL:https://battery-tech.net/battery-event/battery-japan/
CATEGORIES:Battery Event
END:VEVENT
BEGIN:VEVENT
DTSTART;TZID=America/Guatemala:20240219T000000
DTEND;TZID=America/Guatemala:20240222T235959
DTSTAMP:20260424T001144
CREATED:20240727T181944Z
LAST-MODIFIED:20240727T181944Z
UID:6460-1708300800-1708646399@battery-tech.net
SUMMARY:NAATBATT
DESCRIPTION:Description: NAATBatt 2025 will focus on the theme “Extending Range\,” addressing challenges in scaling businesses within the advanced battery industry. The event will include market reports\, state-of-the-industry speeches\, member updates\, panel sessions\, and networking opportunities. Attendees will engage in discussions on market trends\, regulatory changes\, and technological innovations in battery storage\, electric vehicles\, and energy systems. Additionally\, there will be various social activities such as golf\, tennis\, and pickleball tournaments to encourage informal networking and collaboration among participants.\nLocation: Orlando\, Florida \nVenue: Omni Orlando Resort at ChampionsGate
URL:https://battery-tech.net/battery-event/naatbatt/
CATEGORIES:Battery Event
END:VEVENT
BEGIN:VEVENT
DTSTART;TZID=America/Guatemala:20240213T000000
DTEND;TZID=America/Guatemala:20240214T235959
DTSTAMP:20260424T001144
CREATED:20240727T181944Z
LAST-MODIFIED:20240727T181944Z
UID:6459-1707782400-1707955199@battery-tech.net
SUMMARY:Australian Energy Storage Conference & Exhibition
DESCRIPTION:Description: This conference delves into the rapid developments in battery storage and energy systems in Australia. Key topics include government policies\, investment strategies\, and case studies of large-scale and community battery projects. The event will feature expert speakers from leading organizations discussing technological advances\, grid integration\, and decarbonization efforts. Attendees will explore challenges such as supply chain issues\, workforce shortages\, and community engagement\, with a focus on innovative solutions and collaborative efforts to drive the energy transition.\nLocation: Sydney\, Australia \nVenue: Swissotel Sydney
URL:https://battery-tech.net/battery-event/australian-energy-storage-conference-exhibition/
CATEGORIES:Battery Event
END:VEVENT
BEGIN:VEVENT
DTSTART;TZID=America/Guatemala:20240117T000000
DTEND;TZID=America/Guatemala:20240119T235959
DTSTAMP:20260424T001144
CREATED:20240727T181943Z
LAST-MODIFIED:20240727T181943Z
UID:6458-1705449600-1705708799@battery-tech.net
SUMMARY:IERC International Electronics Recycling Congress
DESCRIPTION:Description: The IERC 2024 will gather global experts to discuss the latest trends and innovations in electronics recycling. The event will feature keynote speeches\, panel discussions\, and workshops focusing on new technologies\, regulatory updates\, and sustainable practices. Networking opportunities will facilitate connections between industry leaders\, policy-makers\, and researchers. Attendees will gain insights into advancements in recycling processes\, materials recovery\, and circular economy strategies\, promoting collaboration and innovation in the field.\nLocation: Salzburg\, Austria \nVenue: Salzburg Congress Center
URL:https://battery-tech.net/battery-event/ierc-international-electronics-recycling-congress/
CATEGORIES:Battery Event
END:VEVENT
END:VCALENDAR