BEGIN:VCALENDAR
VERSION:2.0
PRODID:-//Battery-Tech Network - ECPv6.14.2//NONSGML v1.0//EN
CALSCALE:GREGORIAN
METHOD:PUBLISH
X-ORIGINAL-URL:https://battery-tech.net
X-WR-CALDESC:Events for Battery-Tech Network
REFRESH-INTERVAL;VALUE=DURATION:PT1H
X-Robots-Tag:noindex
X-PUBLISHED-TTL:PT1H
BEGIN:VTIMEZONE
TZID:America/Guatemala
BEGIN:STANDARD
TZOFFSETFROM:-0600
TZOFFSETTO:-0600
TZNAME:CST
DTSTART:20250101T000000
END:STANDARD
END:VTIMEZONE
BEGIN:VEVENT
DTSTART;VALUE=DATE:20250401
DTEND;VALUE=DATE:20250402
DTSTAMP:20260421T024527
CREATED:20250318T115451Z
LAST-MODIFIED:20250318T120155Z
UID:15543-1743465600-1743551999@battery-tech.net
SUMMARY:INNO-Bat: Innovative approaches in battery technology
DESCRIPTION:The INNO-Bat event presents a focused one-day conference on innovative approaches in battery technology\, scheduled for April 1\, 2025 at the Hannover Messe Convention Center in Germany. The program is organized into three sessions: digitalization and automatization\, efficient battery lifecycle management\, and regulatory aspects with current market trends. Experts from academia and industry will discuss practical methods for improving battery production and research\, including insights on the integration of artificial intelligence in performance assessments. Tailored for professionals engaged in battery research\, development\, and production\, this event provides an opportunity for attendees to learn about real operational advances and technical strategies\, as well as to engage in discussions that support informed decision-making in the field. \nLocation: Hannover\, Germany\nVenue: Hannover Messe Convention Center\, Room “München” \nWebsite: https://www.celest.de/en/hm25-veranstaltung
URL:https://battery-tech.net/battery-event/inno-bat-innovative-approaches-in-battery-technology/
CATEGORIES:Battery Event,Battery Industry,Battery Research
ATTACH;FMTTYPE=image/jpeg:https://battery-tech.net/wp-content/uploads/2025/03/INNO-Bat-Innovative-approaches-in-battery-technology.jpg
END:VEVENT
BEGIN:VEVENT
DTSTART;VALUE=DATE:20250401
DTEND;VALUE=DATE:20250404
DTSTAMP:20260421T024527
CREATED:20241019T114136Z
LAST-MODIFIED:20250121T110528Z
UID:8361-1743465600-1743724799@battery-tech.net
SUMMARY:Battery Conference / Advanced Battery Power Conference 2025
DESCRIPTION:The Battery Conference\, also known as BatteryPower EU\, is an international symposium dedicated to advanced battery research and development\, featuring in-depth discussions on the latest advancements in battery materials\, manufacturing processes\, and applications in electric vehicles and energy storage systems. The conference includes technical presentations\, poster sessions\, and networking opportunities\, fostering collaboration among scientists\, engineers\, and industry experts. Attendees will also have access to a digital platform for virtual participation\, ensuring comprehensive engagement with the latest research and innovations in battery technology. Online participation was also available\, broadening its reach. \nLocation: Aachen\, Germany \nVenue: Eurogress Aachen
URL:https://battery-tech.net/battery-event/battery-conference-batterypower-eu-2/
CATEGORIES:Battery Event,Battery Industry,Battery Research
ATTACH;FMTTYPE=image/webp:https://battery-tech.net/wp-content/uploads/2024/10/Battery-Conference_Advanced-Battery-Power-Conference-2025.webp
END:VEVENT
BEGIN:VEVENT
DTSTART;VALUE=DATE:20250414
DTEND;VALUE=DATE:20250417
DTSTAMP:20260421T024527
CREATED:20241019T114136Z
LAST-MODIFIED:20250121T115054Z
UID:8362-1744588800-1744847999@battery-tech.net
SUMMARY:BTF China 2025
DESCRIPTION:BTF is a premier event for the battery industry in China\, featuring exhibitions\, technical sessions\, and business forums. It covers various aspects of battery technology\, including materials\, manufacturing processes\, and applications\, providing a comprehensive platform for industry stakeholders. The event aims to showcase the latest innovations and trends in the battery industry\, facilitating business partnerships and knowledge exchange. Attendees will have the opportunity to explore advancements in battery technologies and their applications in electric vehicles and energy storage systems. \nLocation: Shenzhen\, China \nVenue: Shenzhen Convention and Exhibition Center (Futian)
URL:https://battery-tech.net/battery-event/btf-china-2025/
CATEGORIES:Battery Event,Battery Industry
END:VEVENT
BEGIN:VEVENT
DTSTART;VALUE=DATE:20250415
DTEND;VALUE=DATE:20250417
DTSTAMP:20260421T024527
CREATED:20241019T114136Z
LAST-MODIFIED:20250307T121018Z
UID:8363-1744675200-1744847999@battery-tech.net
SUMMARY:E-Tech Show 2025
DESCRIPTION:E-Tech Europe is an international exhibition and conference on advanced batteries and innovative technologies for automotive\, industrial machines\, and electric vehicle production & recycling. The event features key industry players from the full supply chain\, including mechanical\, electrical\, electromechanical\, electronics\, software\, and connectivity sectors. Attendees can explore the latest advancements\, network with professionals\, and participate in insightful sessions and workshops. \nLocation: Bologna\, Italy\nVenue: Bologna Exhibition Centre
URL:https://battery-tech.net/battery-event/e-tech-show-2025/
CATEGORIES:Battery Event,Battery Industry
ATTACH;FMTTYPE=image/png:https://battery-tech.net/wp-content/uploads/2024/10/E-Tech-Show-2025.png
END:VEVENT
BEGIN:VEVENT
DTSTART;VALUE=DATE:20250415
DTEND;VALUE=DATE:20250417
DTSTAMP:20260421T024527
CREATED:20241019T114136Z
LAST-MODIFIED:20250121T115052Z
UID:8364-1744675200-1744847999@battery-tech.net
SUMMARY:Re-Battery 2025
DESCRIPTION:Re-Battery 2025 is an international trade fair dedicated to battery recycling and raw materials recovery\, part of the E-TECH EUROPE event. The event will cover topics such as battery recycling technologies\, materials recovery solutions\, and sustainable materials. It will feature exhibitors\, expert speakers\, and over 1\,500 participants from the battery production and recycling sectors. \nLocation: Bologna\, Italy \nVenue: Bologna Exhibition Centre
URL:https://battery-tech.net/battery-event/re-battery-2025/
CATEGORIES:Battery Event,Battery Industry
ATTACH;FMTTYPE=image/webp:https://battery-tech.net/wp-content/uploads/2024/10/Re-Battery-2025.webp
END:VEVENT
BEGIN:VEVENT
DTSTART;VALUE=DATE:20250416
DTEND;VALUE=DATE:20250418
DTSTAMP:20260421T024527
CREATED:20250408T121748Z
LAST-MODIFIED:20250408T121916Z
UID:16983-1744761600-1744934399@battery-tech.net
SUMMARY:The Battery Show South 2025
DESCRIPTION:The Battery Show South 2025 is a two-day event scheduled for April 16-17\, 2025 at the Georgia World Congress Center in Atlanta\, GA. The program gathers professionals from the battery\, electric vehicle\, and energy storage sectors to share recent developments in cell production\, materials engineering\, and industrial manufacturing. Attendees can participate in technical education sessions and interact with other industry experts. The exhibition features displays from many suppliers presenting new approaches in battery design\, electric and hybrid vehicle technology\, and clean energy systems. Visitors include engineers\, executives\, researchers\, and quality control specialists interested in exploring fresh products\, emerging trends\, and market insights for the growing battery market in the U.S. Southeast. The event also provides an important setting for companies to present practical solutions and to discuss evolving manufacturing practices in the battery industry. \nLocation: Atlanta\, USA\nVenue: Georgia World Congress Center \nWebsite
URL:https://battery-tech.net/battery-event/the-battery-show-south-2025/
CATEGORIES:Battery Event,Battery Industry
ATTACH;FMTTYPE=image/webp:https://battery-tech.net/wp-content/uploads/2025/04/The_Battery_Show_South_Logo.webp
END:VEVENT
BEGIN:VEVENT
DTSTART;VALUE=DATE:20250421
DTEND;VALUE=DATE:20250424
DTSTAMP:20260421T024527
CREATED:20241019T114151Z
LAST-MODIFIED:20250121T115050Z
UID:8365-1745193600-1745452799@battery-tech.net
SUMMARY:EVIS Electric Vehicle Innovation Summit 2025
DESCRIPTION:The Electric Vehicle Innovation Summit (EVIS) is a premier event in the Middle East that highlights the latest advancements and trends in the electric vehicle industry. The summit will feature over 110 speakers and 200 exhibiting brands\, covering topics such as sustainable mobility\, technology innovations\, and market strategies. Attendees will have the opportunity to network with industry leaders\, policymakers\, and innovators\, as well as participate in workshops and panel discussions. \nLocation: Abu Dhabi\, UAE \nVenue: ADNEC Center
URL:https://battery-tech.net/battery-event/evis-electric-vehicle-innovation-summit/
CATEGORIES:Battery Event,Battery Industry
ATTACH;FMTTYPE=image/webp:https://battery-tech.net/wp-content/uploads/2024/10/EVIS-Electric-Vehicle-Innovation-Summit-2025.webp
END:VEVENT
END:VCALENDAR