BEGIN:VCALENDAR
VERSION:2.0
PRODID:-//Battery-Tech Network - ECPv6.14.2//NONSGML v1.0//EN
CALSCALE:GREGORIAN
METHOD:PUBLISH
X-WR-CALNAME:Battery-Tech Network
X-ORIGINAL-URL:https://battery-tech.net
X-WR-CALDESC:Events for Battery-Tech Network
REFRESH-INTERVAL;VALUE=DURATION:PT1H
X-Robots-Tag:noindex
X-PUBLISHED-TTL:PT1H
BEGIN:VTIMEZONE
TZID:America/Guatemala
BEGIN:STANDARD
TZOFFSETFROM:-0600
TZOFFSETTO:-0600
TZNAME:CST
DTSTART:20250101T000000
END:STANDARD
END:VTIMEZONE
BEGIN:VEVENT
DTSTART;VALUE=DATE:20250504
DTEND;VALUE=DATE:20250508
DTSTAMP:20260421T004820
CREATED:20241019T114151Z
LAST-MODIFIED:20250121T115049Z
UID:8366-1746316800-1746662399@battery-tech.net
SUMMARY:BCI Convention + Power Mart Expo 2025
DESCRIPTION:The BCI Convention + Power Mart Expo brings together over 800 professionals in the energy storage industry for four days of networking\, collaboration\, and celebration. The event features more than 30 expert speakers\, dynamic panel discussions\, and industry forecasts. Attendees will explore the latest trends\, regulatory updates\, and technological advancements in the battery sector. Highlights include keynote presentations\, a fireside chat with top CEOs\, and various networking opportunities to foster industry connections and knowledge exchange. \nLocation: San Antonio\, TX \nVenue: JW Marriott San Antonio Hill Country Resort & Spa in San Antonio\, Texas
URL:https://battery-tech.net/battery-event/bci-convention-power-mart-expo/
CATEGORIES:Battery Event,Battery Industry
ATTACH;FMTTYPE=image/jpeg:https://battery-tech.net/wp-content/uploads/2024/10/BCI-Convention-Power-Mart-Expo-2025.jpg
END:VEVENT
BEGIN:VEVENT
DTSTART;VALUE=DATE:20250506
DTEND;VALUE=DATE:20250508
DTSTAMP:20260421T004820
CREATED:20250425T074334Z
LAST-MODIFIED:20250425T074437Z
UID:18117-1746489600-1746662399@battery-tech.net
SUMMARY:Battery 2030+ Annual Conference
DESCRIPTION:The Battery 2030+ Annual Conference 2025 is a two-day forum held from May 6 to May 7\, 2025 at Münster Palace in Münster\, Germany. The event gathers researchers\, industry professionals\, policymakers\, and young scientists in one place to discuss advances in battery research and development. Participants will review new battery chemistries\, enhanced functionalities\, innovative material discovery methods\, advanced modeling techniques\, and sustainable recycling processes. The agenda includes keynote lectures\, industry presentations\, dedicated sessions for emerging talent\, poster pitches\, and ample networking opportunities such as a welcome gathering and guided site visits. This conference provides a platform to examine current scientific progress and practical approaches in battery technology\, making it an essential calendar event for experts and stakeholders in the energy storage sector. \nLocation: Münster\, Germany\nVenue: Münster Palace\, Münster
URL:https://battery-tech.net/battery-event/battery-2030-annual-conference/
CATEGORIES:Battery Event
ATTACH;FMTTYPE=image/webp:https://battery-tech.net/wp-content/uploads/2025/04/Battery-2030-Munster_Cover_1920-1024x580-1.webp
END:VEVENT
BEGIN:VEVENT
DTSTART;VALUE=DATE:20250506
DTEND;VALUE=DATE:20250510
DTSTAMP:20260421T004820
CREATED:20241019T114151Z
LAST-MODIFIED:20250121T115048Z
UID:8367-1746489600-1746835199@battery-tech.net
SUMMARY:EES - Electrical Energy Storage 2025
DESCRIPTION:ees Europe is Europe’s largest and most international exhibition for batteries and energy storage systems. The event will showcase innovations in battery production\, renewable energy integration\, and sustainable energy solutions. It features a comprehensive conference program with expert speakers\, panel discussions\, and networking opportunities. The exhibition is co-located with other key events such as Intersolar Europe and Power2Drive Europe\, providing a holistic view of the energy transition. \nLocation: Munich\, Germany \nVenue: International Congress Center\, Munich
URL:https://battery-tech.net/battery-event/ees-electrical-energy-storage/
CATEGORIES:Battery Event,Battery Industry
ATTACH;FMTTYPE=image/webp:https://battery-tech.net/wp-content/uploads/2024/10/EES-Electrical-Energy-Storage.webp
END:VEVENT
BEGIN:VEVENT
DTSTART;VALUE=DATE:20250506
DTEND;VALUE=DATE:20250510
DTSTAMP:20260421T004820
CREATED:20241019T114152Z
LAST-MODIFIED:20250318T120637Z
UID:8368-1746489600-1746835199@battery-tech.net
SUMMARY:The smarter E Europe 2025
DESCRIPTION:The smarter E Europe is a comprehensive event encompassing four key exhibitions: Intersolar Europe\, ees Europe\, Power2Drive Europe\, and EM-Power Europe. It focuses on renewable energy\, energy storage\, electric mobility\, and energy management. Attendees will benefit from a wide range of sessions\, networking opportunities\, and the chance to explore cutting-edge technologies and solutions driving the energy transition. The event is expected to attract thousands of professionals from around the globe. \nLocation: Munich\, Germany\nVenue: Messe Munch
URL:https://battery-tech.net/battery-event/the-smarter-e-europe/
CATEGORIES:Battery Event,Battery Industry
ATTACH;FMTTYPE=image/webp:https://battery-tech.net/wp-content/uploads/2024/10/The-smarter-E-Europe-Conference.webp
END:VEVENT
BEGIN:VEVENT
DTSTART;VALUE=DATE:20250506
DTEND;VALUE=DATE:20250511
DTSTAMP:20260421T004820
CREATED:20250430T111555Z
LAST-MODIFIED:20250430T111631Z
UID:18362-1746489600-1746921599@battery-tech.net
SUMMARY:Power2Drive Europe 2025
DESCRIPTION:Power2Drive Europe 2025 is an international exhibition and conference focused on charging infrastructure and e-mobility. Held in Munich\, Germany from May 6 to May 9\, 2025\, the event brings together manufacturers\, suppliers\, installers\, fleet and energy managers\, and service providers. The conference runs on May 6–7 at the ICM and the exhibition follows at Messe München from May 7–9. Participants explore topics including smart charging systems\, integration of renewable energy sources\, and efficient electric vehicle infrastructure. The event presents detailed sessions\, interactive panels\, and technical presentations designed to offer practical insights. Attendees can exchange information\, view exhibits\, and discuss technical as well as regulatory issues related to e-mobility in a forum that supports professional networking and market understanding. \nLocation: Munich\, Germany\nVenue: ICM – International Congress Center Messe München & Messe München
URL:https://battery-tech.net/battery-event/power2drive-europe-2025/
CATEGORIES:Battery Event
ATTACH;FMTTYPE=image/webp:https://battery-tech.net/wp-content/uploads/2025/04/power2drive.webp
END:VEVENT
BEGIN:VEVENT
DTSTART;VALUE=DATE:20250513
DTEND;VALUE=DATE:20250514
DTSTAMP:20260421T004820
CREATED:20250318T110208Z
LAST-MODIFIED:20250318T112358Z
UID:15534-1747094400-1747180799@battery-tech.net
SUMMARY:TraWeBa Kongress 2025
DESCRIPTION:The TraWeBa Kongress 2025 is a one-day event that brings together professionals from industry\, academia\, and politics to discuss the transformation of the battery value chain in Germany. Attendees will experience a program featuring keynote addresses\, practice-oriented presentations\, and brief pitches that illustrate practical examples of networking and technology application in battery production and recycling. The event emphasizes themes such as circular economy\, digital innovation in production\, and strategies for mobility and energy transition. Hosted at Villa Ida in Leipzig on May 13\, 2025\, from 8:30 to 17:30\, the congress offers ample opportunities for obtaining relevant insights and forging valuable contacts\, while participation is free and limited to 180 guests. \nLocation: Leipzig\, Germany\nVenue: Villa Ida\, Poetenweg 28\, 04155 Leipzig
URL:https://battery-tech.net/battery-event/traweba-kongress-2025/
CATEGORIES:Battery Event,Battery Industry
ATTACH;FMTTYPE=image/jpeg:https://battery-tech.net/wp-content/uploads/2025/03/TraWeBa-Kongress-2025.jpg
END:VEVENT
BEGIN:VEVENT
DTSTART;VALUE=DATE:20250514
DTEND;VALUE=DATE:20250516
DTSTAMP:20260421T004820
CREATED:20250318T113202Z
LAST-MODIFIED:20250318T113410Z
UID:15537-1747180800-1747353599@battery-tech.net
SUMMARY:3rd European Battery Gigafactory Summit
DESCRIPTION:The 3rd European Battery Gigafactory Summit will be held in Berlin on May 14-15\, 2025. This two-day conference will examine the planning\, engineering\, and operational aspects of large-scale battery manufacturing facilities with a focus on sustainable and efficient construction practices. Designed for industry experts\, project planners\, and professionals involved in battery production\, the summit will address topics such as supply chain management\, facility design\, and regulatory compliance. Delegates will have the opportunity to participate in practical sessions\, network with peers\, and discuss constructive approaches to improve production processes. The event aims to provide clear insights and actionable strategies for enhancing the performance and efficiency of battery gigafactories. \nLocation: Berlin\, Germany\nVenue: Hotel Berlin Köpenick by Leonardo Hotels \nWebsite: https://innovatrix.eu/3rd-ebgs/
URL:https://battery-tech.net/battery-event/3rd-european-battery-gigafactory-summit/
CATEGORIES:Battery Event,Battery Industry
ATTACH;FMTTYPE=image/jpeg:https://battery-tech.net/wp-content/uploads/2025/03/3rd-European-Battery-Gigafactory-Summit.jpg
END:VEVENT
BEGIN:VEVENT
DTSTART;VALUE=DATE:20250515
DTEND;VALUE=DATE:20250518
DTSTAMP:20260421T004820
CREATED:20250518T135415Z
LAST-MODIFIED:20250518T135415Z
UID:19071-1747267200-1747526399@battery-tech.net
SUMMARY:CIBF2025
DESCRIPTION:CIBF2025 is the 17th China International Battery Fair held in Shenzhen\, China\, from May 15 to May 17\, 2025. Organized by the China Industrial Association of Power Sources\, the fair is recognized as a key international meeting for the battery and new energy sectors. The event offers a vast exhibition area spanning 280\,000 m² where over 3\,000 exhibitors from home and abroad display various battery products\, energy storage systems\, and related technologies. In addition to the exhibition\, a series of technical seminars\, information meetings\, and trade fair sessions are scheduled to boost knowledge sharing and professional networking. Attendees\, including industry experts\, scholars\, and business leaders\, have the opportunity to explore product innovations and engage in discussions on current trends and future developments in the battery industry. \nLocation: Shenzhen\, China\nVenue: Shenzhen World Exhibition and Convention Center\, Futian\, Shenzhen\, Guangdong\, China
URL:https://battery-tech.net/battery-event/cibf2025/
CATEGORIES:Battery Event,Battery Industry
ATTACH;FMTTYPE=image/webp:https://battery-tech.net/wp-content/uploads/2025/05/China-International-Battery-Fair-CIBF-2025.webp
END:VEVENT
BEGIN:VEVENT
DTSTART;VALUE=DATE:20250520
DTEND;VALUE=DATE:20250523
DTSTAMP:20260421T004820
CREATED:20241019T114152Z
LAST-MODIFIED:20250307T124129Z
UID:8369-1747699200-1747958399@battery-tech.net
SUMMARY:BATTERY FORUM POLAND 2025
DESCRIPTION:The Battery Forum Poland is a key industry event dedicated to advancing collaboration and knowledge in battery technology. The fair will bring together companies\, technical experts\, and practitioners from Poland and the entire Central and Eastern European region to showcase innovative technologies\, establish business relationships\, and exchange knowledge. The event features a diverse range of exhibitors and extensive networking opportunities\, promoting collaboration and innovation within the industry. \nLocation: Warsaw\, Poland\nVenue: Ptak Warsaw Expo
URL:https://battery-tech.net/battery-event/battery-forum-poland-2025/
CATEGORIES:Battery Event,Battery Industry
ATTACH;FMTTYPE=image/webp:https://battery-tech.net/wp-content/uploads/2024/10/BATTERY-FORUM-POLAND.webp
END:VEVENT
END:VCALENDAR