BEGIN:VCALENDAR
VERSION:2.0
PRODID:-//Battery-Tech Network - ECPv6.14.2//NONSGML v1.0//EN
CALSCALE:GREGORIAN
METHOD:PUBLISH
X-WR-CALNAME:Battery-Tech Network
X-ORIGINAL-URL:https://battery-tech.net
X-WR-CALDESC:Events for Battery-Tech Network
REFRESH-INTERVAL;VALUE=DURATION:PT1H
X-Robots-Tag:noindex
X-PUBLISHED-TTL:PT1H
BEGIN:VTIMEZONE
TZID:America/Guatemala
BEGIN:STANDARD
TZOFFSETFROM:-0600
TZOFFSETTO:-0600
TZNAME:CST
DTSTART:20250101T000000
END:STANDARD
END:VTIMEZONE
BEGIN:VEVENT
DTSTART;VALUE=DATE:20250808
DTEND;VALUE=DATE:20250811
DTSTAMP:20260421T062652
CREATED:20241019T114223Z
LAST-MODIFIED:20250731T080712Z
UID:8377-1754611200-1754870399@battery-tech.net
SUMMARY:The World Battery & Energy Storage Industry Expo (WBE 2025)
DESCRIPTION:The World Battery & Energy Storage Industry Expo (WBE) is a leading international event for the battery and energy storage sector. It will showcase a wide range of products including batteries\, energy storage solutions\, manufacturing equipment\, and recycling technologies. The event features over 1000 exhibitors and attracts more than 150\,000 visitors\, providing extensive networking opportunities and insights into the latest industry trends and innovations. \nLocation: Guangzhou\, China\nVenue: China Import & Export Fair Complex
URL:https://battery-tech.net/battery-event/the-9th-world-battery-energy-storage-industry-expo-wbe-2025/
CATEGORIES:Battery Event,Battery Industry
ATTACH;FMTTYPE=image/png:https://battery-tech.net/wp-content/uploads/2025/03/World-Battery-Energy-Storage-Industry-Expo.png
END:VEVENT
BEGIN:VEVENT
DTSTART;VALUE=DATE:20250812
DTEND;VALUE=DATE:20250814
DTSTAMP:20260421T062652
CREATED:20241019T114223Z
LAST-MODIFIED:20250731T080719Z
UID:8378-1754956800-1755129599@battery-tech.net
SUMMARY:Solid-State Battery Summit 2025
DESCRIPTION:The Solid-State Battery Summit is an esteemed annual event dedicated to advancing solid-state battery technology\, covering topics like material and production cost reduction\, pack design methods\, manufacturing scalability\, safety considerations\, and market applications. The event features keynotes\, panel discussions\, and technical sessions\, providing a comprehensive overview of the global solid-state battery landscape. \nLocation: Chicago\, Illinois\, USA\, and Virtual\nVenue: Hyatt Regency Chicago
URL:https://battery-tech.net/battery-event/solid-state-battery-summit-2025/
CATEGORIES:Battery Event,Battery Industry,Battery Research
ATTACH;FMTTYPE=image/jpeg:https://battery-tech.net/wp-content/uploads/2025/03/Solid-State-Battery-Summit.jpeg
END:VEVENT
BEGIN:VEVENT
DTSTART;VALUE=DATE:20250812
DTEND;VALUE=DATE:20250814
DTSTAMP:20260421T062652
CREATED:20250630T091646Z
LAST-MODIFIED:20250731T080731Z
UID:21867-1754956800-1755129599@battery-tech.net
SUMMARY:Sodium-Ion Battery Conference 2025
DESCRIPTION:The Sodium-Ion Battery Conference 2025 in Chicago offers a dedicated forum for researchers\, industry experts\, and policymakers to discuss the evolution of sodium-ion battery technology. The event will cover a broad range of topics including electrode material performance\, safety enhancements\, cycle longevity\, cost analysis\, and manufacturing scalability. Participants can expect informative sessions\, expert-led presentations\, and panel discussions aimed at sharing research findings and exploring practical applications. The conference emphasizes sustainable energy storage and improved safety in battery systems\, while providing opportunities for networking through both in-person and virtual formats. Attendees will gain insights into recent progress and future directions in sodium-ion technology\, positioning the event as a key meeting point for those seeking to advance alternative energy storage solutions. \nLocation: Chicago\, USA\nVenue: Chicago\, IL and Virtual
URL:https://battery-tech.net/battery-event/sodium-ion-battery-conference-2025/
CATEGORIES:Battery Event,Battery Industry,Battery Research,Virtual Event
ATTACH;FMTTYPE=image/png:https://battery-tech.net/wp-content/uploads/2025/06/Sodium-Ion-Battery-Conference-2025.png
END:VEVENT
BEGIN:VEVENT
DTSTART;VALUE=DATE:20250825
DTEND;VALUE=DATE:20250827
DTSTAMP:20260421T062652
CREATED:20250425T073403Z
LAST-MODIFIED:20250731T080737Z
UID:18114-1756080000-1756252799@battery-tech.net
SUMMARY:Battery Minerals Canada 2025
DESCRIPTION:Battery Minerals Canada 2025 is a prominent industry event focused on the extraction\, processing\, and management of battery minerals including lithium and other critical materials. Hosted in Toronto\, the event gathers battery mineral producers\, upstream explorers\, technology providers\, government representatives\, and investors. Attendees will have the opportunity to review current market insights\, discuss sustainable mining practices\, and examine evolving supply chain strategies. The event’s program features keynote speeches\, panel discussions\, and technical sessions designed to inform decision makers and industry professionals. With a clear focus on technological improvements and practical challenges within the sector\, Battery Minerals Canada 2025 offers an effective forum for networking\, sharing expertise\, and discussing policy and technical advancements in battery mineral production. \nLocation: Toronto\, Canada\nVenue: Sheraton Toronto Airport Hotel & Conference Centre\, Toronto\, Canada
URL:https://battery-tech.net/battery-event/battery-minerals-canada-2025/
CATEGORIES:Battery Event
ATTACH;FMTTYPE=image/png:https://battery-tech.net/wp-content/uploads/2025/04/Battery-Minerals-Canada-2025.png
END:VEVENT
END:VCALENDAR