BEGIN:VCALENDAR
VERSION:2.0
PRODID:-//Battery-Tech Network - ECPv6.14.2//NONSGML v1.0//EN
CALSCALE:GREGORIAN
METHOD:PUBLISH
X-ORIGINAL-URL:https://battery-tech.net
X-WR-CALDESC:Events for Battery-Tech Network
REFRESH-INTERVAL;VALUE=DURATION:PT1H
X-Robots-Tag:noindex
X-PUBLISHED-TTL:PT1H
BEGIN:VTIMEZONE
TZID:America/Guatemala
BEGIN:STANDARD
TZOFFSETFROM:-0600
TZOFFSETTO:-0600
TZNAME:CST
DTSTART:20250101T000000
END:STANDARD
END:VTIMEZONE
BEGIN:VEVENT
DTSTART;VALUE=DATE:20250908
DTEND;VALUE=DATE:20250910
DTSTAMP:20260421T081157
CREATED:20250318T122147Z
LAST-MODIFIED:20250731T080845Z
UID:15547-1757289600-1757462399@battery-tech.net
SUMMARY:Battery Tech Europe - Barcelona
DESCRIPTION:Battery Tech Europe – Barcelona\, encompassing the Battery Tech Expo brand event\, offers a platform for the battery technology industry in Europe. While specific details for the 2025 Battery Tech are still forthcoming\, the general expectation is in line with previous years. This includes a focus on innovation across EV/mobility\, battery storage\, charging infrastructure\, and recycling solutions\, coupled with excellent networking opportunities. \nLocation: Barcelona\, Spain\nVenue: FIRA BARCELONA
URL:https://battery-tech.net/battery-event/battery-tech-europe-barcelona/
CATEGORIES:Battery Event
ATTACH;FMTTYPE=image/webp:https://battery-tech.net/wp-content/uploads/2024/10/Battery-Tech-Expo-UK.webp
END:VEVENT
BEGIN:VEVENT
DTSTART;VALUE=DATE:20250908
DTEND;VALUE=DATE:20250910
DTSTAMP:20260421T081157
CREATED:20250617T101006Z
LAST-MODIFIED:20250731T080858Z
UID:20726-1757289600-1757462399@battery-tech.net
SUMMARY:LFP BATTERY TECH 2025
DESCRIPTION:LFP BATTERY TECH 2025 is a two-day forum scheduled for September 8–9\, 2025 at the Sheraton Detroit Metro Airport in Detroit\, Michigan. The event gathers industry professionals\, technology researchers\, regulatory experts\, and market analysts to discuss recent advancements in Lithium Iron Phosphate (LFP) battery technologies. Sessions will review market trends\, performance comparisons\, and manufacturing techniques while addressing recycling and regulatory safety standards. Participants from battery manufacturing\, automotive original equipment manufacturers\, and policymakers will exchange practical insights and technical data on improving production processes and ensuring safety in electric vehicle applications. Attendees will benefit from technical presentations\, case studies\, and networking opportunities designed to provide a clear picture of current challenges and realistic future opportunities in the LFP battery market. \nLocation: Detroit\, USA\nVenue: Sheraton Detroit Metro Airport
URL:https://battery-tech.net/battery-event/lfp-battery-tech-2025/
CATEGORIES:Battery Event,Battery Industry
ATTACH;FMTTYPE=image/png:https://battery-tech.net/wp-content/uploads/2025/06/LFP-BATTERY-TECH-2025.png
END:VEVENT
BEGIN:VEVENT
DTSTART;VALUE=DATE:20250908
DTEND;VALUE=DATE:20250912
DTSTAMP:20260421T081157
CREATED:20250901T063838Z
LAST-MODIFIED:20250901T063838Z
UID:27429-1757289600-1757635199@battery-tech.net
SUMMARY:Renewable Energy Plus (RE+) 2025
DESCRIPTION:RE+ 2025 is North America’s largest clean energy trade show\, bringing together industry experts\, manufacturers\, regulators\, and business leaders in renewable energy. Scheduled for September 8–11\, 2025 in Las Vegas\, Nevada\, the event is held at the Venetian Convention Center & Expo and CAESARS FORUM. It offers a dedicated forum for practical presentations\, live demonstrations\, and educational sessions covering topics such as solar\, wind\, energy storage\, hydrogen\, microgrids\, and electric vehicle infrastructure. With more than 550 global exhibitors and a significant international attendance\, the show provides ample opportunities for networking\, learning from experienced professionals\, and discussing policy and market developments. Organized by SEPA and SEIA\, RE+ 2025 also supports ongoing industry research\, education\, and advocacy efforts. \nLocation: Las Vegas\, USA\nVenue: Venetian Convention Center & Expo and CAESARS FORUM
URL:https://battery-tech.net/battery-event/renewable-energy-plus-re-2025/
CATEGORIES:Battery Event
ATTACH;FMTTYPE=image/png:https://battery-tech.net/wp-content/uploads/2025/09/RE25.png
END:VEVENT
BEGIN:VEVENT
DTSTART;VALUE=DATE:20250909
DTEND;VALUE=DATE:20250912
DTSTAMP:20260421T081157
CREATED:20241019T114224Z
LAST-MODIFIED:20250731T080912Z
UID:8379-1757376000-1757635199@battery-tech.net
SUMMARY:Faraday Institution Conference 2025
DESCRIPTION:The Faraday Institution Conference is a major event for the UK’s battery research and innovation community. Hosted by the University of Warwick\, it gathers academics\, industry leaders\, policymakers\, and funders globally to share insights and collaborate. The conference features multiple parallel sessions\, poster presentations\, and exhibitions\, alongside numerous networking opportunities. It aims to foster connections and advance battery research\, especially for early-career researchers\, in a vibrant academic setting. \nLocation: Coventry\, UK\nVenue: University of Warwick
URL:https://battery-tech.net/battery-event/faraday-institution-conference-2025/
CATEGORIES:Battery Event,Battery Research
ATTACH;FMTTYPE=image/png:https://battery-tech.net/wp-content/uploads/2024/10/Faraday-Institution-Conference-2025.png
END:VEVENT
BEGIN:VEVENT
DTSTART;VALUE=DATE:20250909
DTEND;VALUE=DATE:20250915
DTSTAMP:20260421T081157
CREATED:20241019T114235Z
LAST-MODIFIED:20250731T081012Z
UID:8380-1757376000-1757894399@battery-tech.net
SUMMARY:IAA Mobility 2025
DESCRIPTION:IAA Mobility is a significant global event for the mobility industry\, featuring a diverse range of vehicles including passenger cars\, bikes\, motorcycles\, and more. The event will attract over 500 international visionaries and 40\,000 attendees to discuss future technologies\, urban mobility\, e-vehicles\, sustainability\, and autonomous driving. Transitioning from a traditional automotive fair\, the event now encompasses cutting-edge vehicle technologies\, infrastructure solutions\, and mobility trends\, reflecting its slogan\, “It’s All About Mobility.” With diverse formats like the IAA Summit\, Conference\, Open Space\, and Experience\, the event attracts industry leaders\, tech companies\, and startups\, fostering dialogue and hands-on experiences in mobility advancements. \nLocation: Munich\, Germany\nVenue: Messe München\, Munich
URL:https://battery-tech.net/battery-event/iaa-mobility-2025/
CATEGORIES:Battery Event,Battery Industry
ATTACH;FMTTYPE=image/jpeg:https://battery-tech.net/wp-content/uploads/2024/10/IAA-Mobility-2025.jpg
END:VEVENT
BEGIN:VEVENT
DTSTART;VALUE=DATE:20250910
DTEND;VALUE=DATE:20250913
DTSTAMP:20260421T081157
CREATED:20241019T114236Z
LAST-MODIFIED:20260313T120414Z
UID:8381-1757462400-1757721599@battery-tech.net
SUMMARY:ICBR 2025 - International Congress for Battery Recycling
DESCRIPTION:ICBR 2025 — International Congress for Battery Recycling — is the international platform for reviewing the challenges faced by the Battery Recycling Industry on a global basis. For 30 consecutive years\, ICBR has brought together the international community of experts and decision makers of the entire Battery Recycling value chain\, including battery recyclers and manufacturers\, collection organizations\, OEM’s\, policymakers\, materials and services providers and many more. \nThis event is a unique opportunity to: \n\nExplore and address key challenges in battery recycling and sustainable resource management.\nEngage with a diverse range of professionals from the automotive\, mining\, engineering\, and environmental sectors.\nGain valuable insights from renowned speakers and a dedicated steering committee with decades of industry experience.\nNetwork with peers\, exhibitors\, and sponsors through a robust program\, including side events and a dynamic virtual hub.\nLearn about the latest trends and innovations in battery recycling and contribute to shaping a more sustainable future.\n\nFor more information on the program\, sponsorship opportunities\, and how to participate\, visit the ICBR 2025 website. \nLocation: Valencia\, Spain + Virtual Hub\nVenue: Valencia Conference Center (Palacio de Congresos de València) \nOrganizer: ICM AG
URL:https://battery-tech.net/battery-event/icbr-2025-international-congress-for-battery-recycling/
CATEGORIES:Battery Event,Battery Industry
ATTACH;FMTTYPE=image/png:https://battery-tech.net/wp-content/uploads/2024/10/ICBR-2025-–-International-Congress-for-Battery-Recycling_Spain.png
END:VEVENT
BEGIN:VEVENT
DTSTART;VALUE=DATE:20250916
DTEND;VALUE=DATE:20250919
DTSTAMP:20260421T081157
CREATED:20250617T111910Z
LAST-MODIFIED:20260313T120600Z
UID:20746-1757980800-1758239999@battery-tech.net
SUMMARY:Fastmarkets European Battery Raw Materials Conference 2025
DESCRIPTION:20% discount on your Fastmarkets European Battery Raw Materials Conference registration fees with Battery-Tech Network discount code “BATTECH20” – Buy your ticket here.\nThe Fastmarkets European Battery Raw Materials Conference 2025 is a leading forum for professionals involved in the battery supply chain. Set in Lisbon at the historic Convento do Beato\, this three-day event gathers over 450 decision-makers including miners\, refiners\, battery manufacturers\, OEMs\, and energy storage experts. Participants will engage in sessions covering market trends\, regulatory changes\, investment challenges\, and sustainable practices in raw material supply. With over 20 hours of networking\, roundtables\, and workshops\, the conference provides an opportunity to share insights on evolving market conditions and supply security. This event is an ideal venue for industry stakeholders to meet peers\, discuss policy impacts\, and review future supply chain strategies in a rapidly changing global context. \nLocation: Lisbon\, Portugal\nVenue: Convento do Beato
URL:https://battery-tech.net/battery-event/fastmarkets-european-battery-raw-materials-conference-2025/
CATEGORIES:Battery Event,Battery Industry
ATTACH;FMTTYPE=image/webp:https://battery-tech.net/wp-content/uploads/2025/06/Fastmarkets-European-Battery-Raw-Materials-Conference-2025-.webp
END:VEVENT
BEGIN:VEVENT
DTSTART;VALUE=DATE:20250917
DTEND;VALUE=DATE:20250920
DTSTAMP:20260421T081157
CREATED:20241019T114236Z
LAST-MODIFIED:20250731T081208Z
UID:8382-1758067200-1758326399@battery-tech.net
SUMMARY:Battery Japan
DESCRIPTION:Description: BATTERY JAPAN is a leading exhibition focused on cutting-edge battery technologies\, components\, and materials essential for advancing renewable energy and electric vehicle industries. As part of SMART ENERGY WEEK\, this comprehensive show brings together manufacturers\, researchers\, and industry professionals to showcase the latest innovations in rechargeable batteries\, energy storage systems\, and related manufacturing equipment. Held three times a year in key Japanese cities\, BATTERY JAPAN offers unparalleled networking and business opportunities for those at the forefront of sustainable energy solutions and carbon neutrality efforts. \nLocation: Makuhari\, Japan\nVenue: Makuhari Messe\, Japan
URL:https://battery-tech.net/battery-event/battery-japan-2025-2/
CATEGORIES:Battery Event,Battery Industry
END:VEVENT
BEGIN:VEVENT
DTSTART;VALUE=DATE:20250922
DTEND;VALUE=DATE:20250924
DTSTAMP:20260421T081157
CREATED:20250617T100616Z
LAST-MODIFIED:20250731T081218Z
UID:20727-1758499200-1758671999@battery-tech.net
SUMMARY:ANNUAL EV BATTERY TECH EUROPE 2025
DESCRIPTION:Annual EV Battery Tech Europe 2025 is a two‐day conference designed for professionals in the electric vehicle battery sector. Set in Frankfurt\, Germany\, the event focuses on developments in battery chemistry\, performance optimization\, safe production methods\, and recycling practices. Attendees will benefit from a program that includes specialist presentations\, technical sessions\, and an expo area featuring equipment and products related to battery systems. This meeting fosters discussion on material processing\, quality control\, and efficient manufacturing practices while providing extensive networking opportunities. The conference is directed to design and project owners\, executive managers\, research professionals\, production and operations specialists\, and quality consultants. Participants are encouraged to exchange practical experiences and review current trends in battery performance and durability to support informed decision-making in their respective fields. \nLocation: Frankfurt\, Germany\nVenue: JW Marriott Hotel Frankfurt\, Germany
URL:https://battery-tech.net/battery-event/annual-ev-battery-tech-europe-2025/
CATEGORIES:Battery Event,Battery Industry
ATTACH;FMTTYPE=image/png:https://battery-tech.net/wp-content/uploads/2025/06/ANNUAL-EV-BATTERY-TECH-EUROPE-2025.png
END:VEVENT
BEGIN:VEVENT
DTSTART;VALUE=DATE:20250925
DTEND;VALUE=DATE:20250926
DTSTAMP:20260421T081157
CREATED:20250710T163317Z
LAST-MODIFIED:20250731T081234Z
UID:22451-1758758400-1758844799@battery-tech.net
SUMMARY:Battery Day 2025 - hosted by Battery Associates
DESCRIPTION:Battery Day 2025 is a one-day event on September 25\, 2025\, hosted by Battery Associates. Designed as a global online meeting with an option for in-person participation in Etterbeek\, Belgium\, the event brings together professionals\, researchers\, corporate leaders\, and policy stakeholders from the battery industry. The program includes panel discussions\, keynote speeches\, deep dives into research and development\, battery chain traceability\, e-mobility applications\, and innovations in battery materials. Attendees will have the chance to share expertise\, review the annual progress of the battery sector through the annual review segment known as the ‘Battery Day Timeline\,’ and exchange practical ideas. This meeting is essential for anybody involved in energy storage and battery technology seeking clear insights and effective networking opportunities. \nLocation: Etterbeek\, Belgium\nVenue: Virtual Event
URL:https://battery-tech.net/battery-event/battery-day-2025-hosted-by-battery-associates/
CATEGORIES:Battery Event,Battery Industry,Battery Research,Virtual Event
ATTACH;FMTTYPE=image/png:https://battery-tech.net/wp-content/uploads/2025/07/Battery-Day-2026-Battery-Associates.png
END:VEVENT
BEGIN:VEVENT
DTSTART;VALUE=DATE:20250925
DTEND;VALUE=DATE:20250927
DTSTAMP:20260421T081157
CREATED:20250820T085245Z
LAST-MODIFIED:20250820T085435Z
UID:24880-1758758400-1758931199@battery-tech.net
SUMMARY:2nd Excellence in Battery Manufacturing Processes\, Planning\, Regulations and Technology of Battery Cells and Systems
DESCRIPTION:The 2nd Excellence in Battery Manufacturing Processes\, Planning\, Regulations and Technology of Battery Cells and Systems event will be held in Berlin\, Germany from September 25 to 26\, 2025 at the JW Marriott Hotel Berlin. This event gathers industry professionals including battery manufacturers\, process engineers\, regulatory experts\, researchers\, and technical solution providers\, to discuss practical topics in battery cell production and system design. With presentations from recognized experts\, attendees will explore process optimization\, manufacturing planning\, and regulatory compliance in depth. Organized by TBM Group\, the conference offers a structured forum for networking\, knowledge sharing\, and exploring current practices and challenges in battery manufacturing. \nLocation: Berlin\, Germany\nVenue: JW Marriott Hotel Berlin
URL:https://battery-tech.net/battery-event/2nd-excellence-in-battery-manufacturing-processes-planning-regulations-and-technology-of-battery-cells-and-systems/
CATEGORIES:Battery Event
ATTACH;FMTTYPE=image/png:https://battery-tech.net/wp-content/uploads/2025/08/2nd-Excellence-in-Battery-Manufacturing-Processes-Planning-Regulations-and-Technology-of-Battery-Cells-and-Systems.png
END:VEVENT
BEGIN:VEVENT
DTSTART;VALUE=DATE:20250929
DTEND;VALUE=DATE:20251001
DTSTAMP:20260421T081157
CREATED:20250922T073225Z
LAST-MODIFIED:20250922T073314Z
UID:28030-1759104000-1759276799@battery-tech.net
SUMMARY:Automotive Battery Tech Summit 2025
DESCRIPTION:The Automotive Battery Tech Summit 2025 brings together professionals from the electric vehicle battery field for a focused two-day event in Berlin. Attendees will have the opportunity to explore current developments in battery management systems\, battery chemistry\, manufacturing practices\, and data analytics. The summit offers interactive presentations\, specialized workshops\, and structured networking sessions such as one-to-one meetings and small-group discussions. This setting provides senior executives\, technical leaders\, engineers\, and industry experts the chance to exchange practical insights and discuss solutions for performance\, safety\, and cost efficiency in battery production. With a detailed agenda and a high-level audience\, the event aims to support informed decision-making and progressive practices within the European automotive battery industry. \nLocation: Berlin\, Germany\nVenue: Steigenberger Hotel am Kanzleramt
URL:https://battery-tech.net/battery-event/automotive-battery-tech-summit-2025/
CATEGORIES:Battery Event
ATTACH;FMTTYPE=image/png:https://battery-tech.net/wp-content/uploads/2025/09/Automotive-Battery-Tech-Summit-2025.png
END:VEVENT
END:VCALENDAR